BEGIN:VCALENDAR
VERSION:2.0
PRODID:-//https://www.association-lapostrophe.fr///NONSGML kigkonsult.se iCalcreator 2.10.15//
METHOD:PUBLISH
BEGIN:VEVENT
UID:20260421T102423CEST-3502nvxIWl@https://www.association-lapostrophe.fr/
DTSTAMP:20260421T082423Z
DESCRIPTION: https://www.association-lapostrophe.fr/evenements/toutes-les-m
 anifestations/evenement/366-assemblee-generale
DTSTART:20260113T130000Z
DTEND:20260113T160000Z
LOCATION:Maison de Quartier Le FLORIDA (1 Boulevard Auguste Comte\, 13010\,
  10e Arrondissement\, Marseille\, Bouches-du-Rhône\, Provence-Alpes-Côte d
 'Azur)
SUMMARY:Assemblée Générale
URL:https://www.association-lapostrophe.fr/evenements/toutes-les-manifestat
 ions/evenement/366-assemblee-generale
END:VEVENT
END:VCALENDAR
