BEGIN:VCALENDAR
VERSION:2.0
PRODID:-//https://www.association-lapostrophe.fr///NONSGML kigkonsult.se iCalcreator 2.10.15//
METHOD:PUBLISH
BEGIN:VEVENT
UID:20260424T032456CEST-3677jHl5vK@https://www.association-lapostrophe.fr/
DTSTAMP:20260424T012456Z
DESCRIPTION: https://www.association-lapostrophe.fr/evenements/activites-di
 verses/evenement/394-conference-les-chemins-de-lenfance
DTSTART:20260507T120000Z
DTEND:20260507T150000Z
LOCATION:CMA de Saint Barnabé 13012 ()
SUMMARY:Conférence : ' Les chemins de l'enfance '
URL:https://www.association-lapostrophe.fr/evenements/activites-diverses/ev
 enement/394-conference-les-chemins-de-lenfance
END:VEVENT
END:VCALENDAR
