BEGIN:VCALENDAR
VERSION:2.0
PRODID:-//https://www.association-lapostrophe.fr///NONSGML kigkonsult.se iCalcreator 2.10.15//
METHOD:PUBLISH
BEGIN:VEVENT
UID:20260420T153500CEST-9807CCcE2H@https://www.association-lapostrophe.fr/
DTSTAMP:20260420T133500Z
DESCRIPTION:\nJEUDI 25 FEVRER 2026 : VISITE DE L’EXPOSITION « SOUVENIR D’AV
 ENIR » PHOTOS DE J.M PERRIER A LA GALERIE DU POLE CULUREL D’ALLAUCH ANIMEE
  PAR D. CALISTI\n https://www.association-lapostrophe.fr/component/rsevent
 spro/evenement/387-exposition-souvenir-d-avenir-photos-de-j-m-perrier?Item
 id=101
DTSTART:20260224T230100Z
DTEND:20260224T230200Z
LOCATION:POLE CULUREL D’ALLAUCH ()
SUMMARY:EXPOSITION « SOUVENIR D’AVENIR » PHOTOS DE J.M PERRIER
URL:https://www.association-lapostrophe.fr/component/rseventspro/evenement/
 387-exposition-souvenir-d-avenir-photos-de-j-m-perrier?Itemid=101
END:VEVENT
END:VCALENDAR
